BEGIN:VCALENDAR
VERSION:2.0
PRODID:icalendar-ruby
CALSCALE:GREGORIAN
BEGIN:VEVENT
DTSTAMP:20210122T064157Z
UID:39ef5368-e7ae-4397-96e4-85e7e699d343
DTSTART;VALUE=DATE:20191015
DESCRIPTION:Property ID# 461012\, Locatoin: 16a Foster Road\, Okere Falls\,
  Rotorua\, Time: 1:00PM
SUMMARY:Auction for 
END:VEVENT
END:VCALENDAR
