BEGIN:VCALENDAR
VERSION:2.0
PRODID:icalendar-ruby
CALSCALE:GREGORIAN
BEGIN:VEVENT
DTSTAMP:20210122T063810Z
UID:e6ecd5d8-ef15-4b3b-aa97-eca27eaa8fdd
DTSTART;VALUE=DATE:20191106
DESCRIPTION:Property ID# 463001\, Time: 4:00PM
SUMMARY:Auction for 
END:VEVENT
END:VCALENDAR
