BEGIN:VCALENDAR
VERSION:2.0
PRODID:icalendar-ruby
CALSCALE:GREGORIAN
BEGIN:VEVENT
DTSTAMP:20210122T064156Z
UID:59a43d8b-9872-4c73-b842-ad61734a4295
DTSTART;VALUE=DATE:20191127
DESCRIPTION:Property ID# 465765\, Locatoin: On site\, Time: 1:00PM
SUMMARY:Auction for 
END:VEVENT
END:VCALENDAR
