BEGIN:VCALENDAR
VERSION:2.0
PRODID:icalendar-ruby
CALSCALE:GREGORIAN
BEGIN:VEVENT
DTSTAMP:20210122T063808Z
UID:1772cd2a-d3e5-4bdc-b775-be08bae3dbaa
DTSTART;VALUE=DATE:20191203
DESCRIPTION:Property ID# 466403\, Locatoin: On Site\, Time: 6:00PM
SUMMARY:Auction for 
END:VEVENT
END:VCALENDAR
