BEGIN:VCALENDAR
VERSION:2.0
PRODID:icalendar-ruby
CALSCALE:GREGORIAN
BEGIN:VEVENT
DTSTAMP:20210122T064206Z
UID:2deb8c6b-76d8-4ebf-af7f-c85d1834921c
DTSTART;VALUE=DATE:20200130
DESCRIPTION:Property ID# 470328\, Time: 11:00AM
SUMMARY:Auction for 
END:VEVENT
END:VCALENDAR
