BEGIN:VCALENDAR
VERSION:2.0
PRODID:icalendar-ruby
CALSCALE:GREGORIAN
BEGIN:VEVENT
DTSTAMP:20210122T063825Z
UID:5162f04f-870c-439a-9785-350dd43e637a
DTSTART;VALUE=DATE:20200312
DESCRIPTION:Property ID# 473662\, Time: 4:00PM
SUMMARY:Auction for 
END:VEVENT
END:VCALENDAR
