BEGIN:VCALENDAR
VERSION:2.0
PRODID:icalendar-ruby
CALSCALE:GREGORIAN
BEGIN:VEVENT
DTSTAMP:20210122T064641Z
UID:27f7459d-68ad-4fb7-a30b-1e852308c74c
DTSTART;VALUE=DATE:20200624
DESCRIPTION:Property ID# 476404\, Locatoin: 1239 Amohia Street\, Rotorua (u
 nless sold prior)\, Time: 4:00PM
SUMMARY:Auction for 
END:VEVENT
END:VCALENDAR
