BEGIN:VCALENDAR
VERSION:2.0
PRODID:icalendar-ruby
CALSCALE:GREGORIAN
BEGIN:VEVENT
DTSTAMP:20210122T063823Z
UID:6540eac0-28e7-4141-ae0b-dcf94b493dba
DTSTART;VALUE=DATE:20200527
DESCRIPTION:Property ID# 476611\, Time: 4:00PM
SUMMARY:Auction for 
END:VEVENT
END:VCALENDAR
