BEGIN:VCALENDAR
VERSION:2.0
PRODID:icalendar-ruby
CALSCALE:GREGORIAN
BEGIN:VEVENT
DTSTAMP:20210122T063803Z
UID:cd16f762-6ef6-4e65-8a9f-e51ad16dbd92
DTSTART;VALUE=DATE:20200811
DESCRIPTION:Property ID# 485175\, Locatoin: Motion Entertainment\, 366 Te N
 gae Road\, Rotorua\, Time: 3:00PM
SUMMARY:Auction for 
END:VEVENT
END:VCALENDAR
