BEGIN:VCALENDAR
VERSION:2.0
PRODID:icalendar-ruby
CALSCALE:GREGORIAN
BEGIN:VEVENT
DTSTAMP:20210122T064639Z
UID:f758e1ff-d1cd-4be6-8ee5-1494a6d30b50
DTSTART;VALUE=DATE:20200909
DESCRIPTION:Property ID# 486309\, Time: 1:00PM
SUMMARY:Auction for 
END:VEVENT
END:VCALENDAR
