BEGIN:VCALENDAR
VERSION:2.0
PRODID:icalendar-ruby
CALSCALE:GREGORIAN
BEGIN:VEVENT
DTSTAMP:20210122T063801Z
UID:37c3ba25-4755-4e15-b922-4687e09fd823
DTSTART;VALUE=DATE:20200922
DESCRIPTION:Property ID# 487934\, Time: 1:00PM
SUMMARY:Auction for 
END:VEVENT
END:VCALENDAR
