BEGIN:VCALENDAR
VERSION:2.0
PRODID:icalendar-ruby
CALSCALE:GREGORIAN
BEGIN:VEVENT
DTSTAMP:20210122T064154Z
UID:05b572ac-ba5e-48ba-8a11-6678f12022b4
DTSTART;VALUE=DATE:20200930
DESCRIPTION:Property ID# 487974\, Locatoin: On site (unless sold prior)\, T
 ime: 12:00PM
SUMMARY:Auction for 
END:VEVENT
END:VCALENDAR
