BEGIN:VCALENDAR
VERSION:2.0
PRODID:icalendar-ruby
CALSCALE:GREGORIAN
BEGIN:VEVENT
DTSTAMP:20210122T063745Z
UID:d6ee3baa-efe8-4bb9-8c3b-2a419bc97b94
DTSTART;VALUE=DATE:20200924
DESCRIPTION:Property ID# 488812\, Time: 4:00PM
SUMMARY:Auction for 
END:VEVENT
END:VCALENDAR
