BEGIN:VCALENDAR
VERSION:2.0
PRODID:icalendar-ruby
CALSCALE:GREGORIAN
BEGIN:VEVENT
DTSTAMP:20210122T063822Z
UID:24fb1d4b-4fe6-4f80-b21f-028961e9a916
DTSTART;VALUE=DATE:20201007
DESCRIPTION:Property ID# 489750\, Locatoin: Ray White Auction Room\, 1239 A
 mohia Street\, Rotorua (unless sold prior)\, Time: 1:00PM
SUMMARY:Auction for 
END:VEVENT
END:VCALENDAR
