BEGIN:VCALENDAR
VERSION:2.0
PRODID:icalendar-ruby
CALSCALE:GREGORIAN
BEGIN:VEVENT
DTSTAMP:20210122T063800Z
UID:c59c7ac5-f5c9-4b4d-9efe-783db269c08b
DTSTART;VALUE=DATE:20201014
DESCRIPTION:Property ID# 489862\, Locatoin: Bayleys Office\, 1092 Fenton St
 reet\, Rotorua\, Time: 12:00PM
SUMMARY:Auction for 
END:VEVENT
END:VCALENDAR
