BEGIN:VCALENDAR
VERSION:2.0
PRODID:icalendar-ruby
CALSCALE:GREGORIAN
BEGIN:VEVENT
DTSTAMP:20210122T063821Z
UID:f6eda6cc-133a-4c47-961c-40b881ba7336
DTSTART;VALUE=DATE:20201015
DESCRIPTION:Property ID# 490940\, Time: 4:00PM
SUMMARY:Auction for 
END:VEVENT
END:VCALENDAR
