BEGIN:VCALENDAR
VERSION:2.0
PRODID:icalendar-ruby
CALSCALE:GREGORIAN
BEGIN:VEVENT
DTSTAMP:20210122T064150Z
UID:889dfd07-c6fe-4c8e-a4c9-9e6215f85522
DTSTART;VALUE=DATE:20201103
DESCRIPTION:Property ID# 491071\, Locatoin: On site\, Time: 4:00PM
SUMMARY:Auction for 
END:VEVENT
END:VCALENDAR
