BEGIN:VCALENDAR
VERSION:2.0
PRODID:icalendar-ruby
CALSCALE:GREGORIAN
BEGIN:VEVENT
DTSTAMP:20210122T064224Z
UID:af279e8b-1df4-4b4c-8451-9391bd9baedf
DTSTART;VALUE=DATE:20201028
DESCRIPTION:Property ID# 491901\, Time: 4:00PM
SUMMARY:Auction for 
END:VEVENT
END:VCALENDAR
