BEGIN:VCALENDAR
VERSION:2.0
PRODID:icalendar-ruby
CALSCALE:GREGORIAN
BEGIN:VEVENT
DTSTAMP:20210122T063759Z
UID:087e611e-7b18-466f-9d72-ef1b527ebf3d
DTSTART;VALUE=DATE:20201110
DESCRIPTION:Property ID# 492409\, Time: 1:00PM
SUMMARY:Auction for 
END:VEVENT
END:VCALENDAR
