BEGIN:VCALENDAR
VERSION:2.0
PRODID:icalendar-ruby
CALSCALE:GREGORIAN
BEGIN:VEVENT
DTSTAMP:20210122T064222Z
UID:6661af1c-badd-4473-a3c0-5b66e096b5d7
DTSTART;VALUE=DATE:20201112
DESCRIPTION:Property ID# 492642\, Time: 4:00PM
SUMMARY:Auction for 
END:VEVENT
END:VCALENDAR
