BEGIN:VCALENDAR
VERSION:2.0
PRODID:icalendar-ruby
CALSCALE:GREGORIAN
BEGIN:VEVENT
DTSTAMP:20210122T064221Z
UID:5ec108e1-88be-4f49-8e2d-c8c9bd9ab1bc
DTSTART;VALUE=DATE:20201111
DESCRIPTION:Property ID# 493142\, Locatoin: Ray White Auction Room\, 1239 A
 mohia Street\, Rotorua (unless sold prior)\, Time: 1:00PM
SUMMARY:Auction for 
END:VEVENT
END:VCALENDAR
