BEGIN:VCALENDAR
VERSION:2.0
PRODID:icalendar-ruby
CALSCALE:GREGORIAN
BEGIN:VEVENT
DTSTAMP:20210122T063757Z
UID:cedf3ddc-eebb-429d-8d0e-033843b5f4aa
DTSTART;VALUE=DATE:20201208
DESCRIPTION:Property ID# 494738\, Locatoin: Motion Entertainment\, 366 Te N
 gae Road\, Rotorua\, Time: 1:00PM
SUMMARY:Auction for 
END:VEVENT
END:VCALENDAR
