BEGIN:VCALENDAR
VERSION:2.0
PRODID:icalendar-ruby
CALSCALE:GREGORIAN
BEGIN:VEVENT
DTSTAMP:20210122T063753Z
UID:4fca8f84-6b83-432c-92e7-5c7ace5b4f48
DTSTART;VALUE=DATE:20201215
DESCRIPTION:Property ID# 495969\, Time: 4:00PM
SUMMARY:Auction for 
END:VEVENT
END:VCALENDAR
