BEGIN:VCALENDAR
VERSION:2.0
PRODID:icalendar-ruby
CALSCALE:GREGORIAN
BEGIN:VEVENT
DTSTAMP:20210122T063748Z
UID:09c9ee5f-62b5-426c-a700-7bc149c69d28
DTSTART;VALUE=DATE:20201215
DESCRIPTION:Property ID# 496113\, Time: 4:00PM
SUMMARY:Auction for 32A Holland Street
END:VEVENT
END:VCALENDAR
