BEGIN:VCALENDAR
VERSION:2.0
PRODID:icalendar-ruby
CALSCALE:GREGORIAN
BEGIN:VEVENT
DTSTAMP:20210122T063202Z
UID:22e7fd49-aa91-4860-b88a-df49d5a9833c
DTSTART;VALUE=DATE:20201217
DESCRIPTION:Property ID# 496462\, Time: 1:00PM
SUMMARY:Auction for 11 Landscape Drive
END:VEVENT
END:VCALENDAR
