BEGIN:VCALENDAR
VERSION:2.0
PRODID:icalendar-ruby
CALSCALE:GREGORIAN
BEGIN:VEVENT
DTSTAMP:20210122T064633Z
UID:21a9e749-b7b5-4d98-8526-dd1d1fa0674f
DTSTART;VALUE=DATE:20201221
DESCRIPTION:Property ID# 497451\, Time: 4:00PM
SUMMARY:Auction for 
END:VEVENT
END:VCALENDAR
