BEGIN:VCALENDAR
VERSION:2.0
PRODID:icalendar-ruby
CALSCALE:GREGORIAN
BEGIN:VEVENT
DTSTAMP:20210122T063750Z
UID:be6224a0-ee9d-4abf-ad60-da3ccf447f3f
DTSTART;VALUE=DATE:20201222
DESCRIPTION:Property ID# 497936\, Time: 4:00PM
SUMMARY:Auction for 
END:VEVENT
END:VCALENDAR
