BEGIN:VCALENDAR
VERSION:2.0
PRODID:icalendar-ruby
CALSCALE:GREGORIAN
BEGIN:VEVENT
DTSTAMP:20210122T063805Z
UID:45024d78-e49f-421a-af32-6d613008b980
DTSTART;VALUE=DATE:20210218
DESCRIPTION:Property ID# 497938\, Time: 1:00PM
SUMMARY:Auction for 414F Dalbeth Road
END:VEVENT
END:VCALENDAR
