BEGIN:VCALENDAR
VERSION:2.0
PRODID:icalendar-ruby
CALSCALE:GREGORIAN
BEGIN:VEVENT
DTSTAMP:20210122T064213Z
UID:8024b4ac-deb2-47c4-b4cd-6c267b5b28b8
DTSTART;VALUE=DATE:20210127
DESCRIPTION:Property ID# 497939\, Locatoin: Ray White Rotorua\, Time: 4:00P
 M
SUMMARY:Auction for 36E Collingwood Drive
END:VEVENT
END:VCALENDAR
