BEGIN:VCALENDAR
VERSION:2.0
PRODID:icalendar-ruby
CALSCALE:GREGORIAN
BEGIN:VEVENT
DTSTAMP:20210122T064214Z
UID:98a4533c-253b-4542-8477-87850f8c9818
DTSTART;VALUE=DATE:20210127
DESCRIPTION:Property ID# 498467\, Locatoin: Ray White Auction Room\, 1239 A
 mohia Street\, Rotorua (unless sold prior)\, Time: 1:00PM
SUMMARY:Auction for 12 Pretoria Street
END:VEVENT
END:VCALENDAR
