BEGIN:VCALENDAR
VERSION:2.0
PRODID:icalendar-ruby
CALSCALE:GREGORIAN
BEGIN:VEVENT
DTSTAMP:20210122T064211Z
UID:b1282190-f731-4c79-893e-de3a30e404b1
DTSTART;VALUE=DATE:20210127
DESCRIPTION:Property ID# 498471\, Time: 1:00PM
SUMMARY:Auction for 20 Gemini St
END:VEVENT
END:VCALENDAR
