BEGIN:VCALENDAR
VERSION:2.0
PRODID:icalendar-ruby
CALSCALE:GREGORIAN
BEGIN:VEVENT
DTSTAMP:20210122T064612Z
UID:28e1a031-c806-4eb7-a75c-e537cf33ddd6
DTSTART;VALUE=DATE:20210223
DESCRIPTION:Property ID# 498669\, Locatoin: PGG Wrightson Building\, Corner
 s Marguerita and White Streets Rotorua\, Time: 4:00PM
SUMMARY:Auction for 1994 Manawahe Rd
END:VEVENT
END:VCALENDAR
