BEGIN:VCALENDAR
VERSION:2.0
PRODID:icalendar-ruby
CALSCALE:GREGORIAN
BEGIN:VEVENT
DTSTAMP:20210122T064629Z
UID:43e9522b-68fb-40e2-821b-05ece5e093fe
DTSTART;VALUE=DATE:20210211
DESCRIPTION:Property ID# 499678\, Time: 4:00PM
SUMMARY:Auction for 25 Hodgkins Street
END:VEVENT
END:VCALENDAR
