BEGIN:VCALENDAR
VERSION:2.0
PRODID:icalendar-ruby
CALSCALE:GREGORIAN
BEGIN:VEVENT
DTSTAMP:20210122T064628Z
UID:ae912070-e965-401c-87da-bdfe0e158559
DTSTART;VALUE=DATE:20210211
DESCRIPTION:Property ID# 499764\, Time: 4:00PM
SUMMARY:Auction for 6 Arthur Street
END:VEVENT
END:VCALENDAR
