BEGIN:VCALENDAR
VERSION:2.0
PRODID:icalendar-ruby
CALSCALE:GREGORIAN
BEGIN:VEVENT
DTSTAMP:20210122T063746Z
UID:15e53e08-aef2-4f31-88da-48614d58c811
DTSTART;VALUE=DATE:20210223
DESCRIPTION:Property ID# 499959\, Time: 1:00PM
SUMMARY:Auction for 25 Moncur Drive
END:VEVENT
END:VCALENDAR
