BEGIN:VCALENDAR
VERSION:2.0
PRODID:icalendar-ruby
CALSCALE:GREGORIAN
BEGIN:VEVENT
DTSTAMP:20210122T064207Z
UID:392de94c-28e2-48b2-baa0-bde7bb77458b
DTSTART;VALUE=DATE:20210203
DESCRIPTION:Property ID# 500052\, Time: 4:00PM
SUMMARY:Auction for 1/87 Mallard Drive
END:VEVENT
END:VCALENDAR
