BEGIN:VCALENDAR
VERSION:2.0
PRODID:icalendar-ruby
CALSCALE:GREGORIAN
BEGIN:VEVENT
DTSTAMP:20210122T064609Z
UID:e4bc2d65-fd75-4c4f-93b5-26dca8f1b823
DTSTART;TZID=Pacific/Auckland:20210127T110000
DTEND;TZID=Pacific/Auckland:20210127T120000
DESCRIPTION:Property ID# 498669
SUMMARY:Openhome for 1994 Manawahe Rd
END:VEVENT
END:VCALENDAR
