BEGIN:VCALENDAR
VERSION:2.0
PRODID:icalendar-ruby
CALSCALE:GREGORIAN
BEGIN:VEVENT
DTSTAMP:20210122T063743Z
UID:368beffd-78e4-4408-98d1-c78b592a6cc5
DTSTART;TZID=Pacific/Auckland:20210124T130000
DTEND;TZID=Pacific/Auckland:20210124T140000
DESCRIPTION:Property ID# 500444
SUMMARY:Openhome for 95B Edmund Road
END:VEVENT
END:VCALENDAR
