BEGIN:VCALENDAR
VERSION:2.0
PRODID:icalendar-ruby
CALSCALE:GREGORIAN
BEGIN:VEVENT
DTSTAMP:20210122T063814Z
UID:9deaffc5-72d9-43af-852c-2f15f3ee757a
DTSTART;TZID=Pacific/Auckland:20210124T123000
DTEND;TZID=Pacific/Auckland:20210124T131500
DESCRIPTION:Property ID# 499989
SUMMARY:Openhome for 43 Miller Street
END:VEVENT
END:VCALENDAR
