BEGIN:VCALENDAR
VERSION:2.0
PRODID:icalendar-ruby
CALSCALE:GREGORIAN
BEGIN:VEVENT
DTSTAMP:20260420T023914Z
UID:5ca299b5-5ca7-4023-8b8a-01ee8413a562
DTSTART;VALUE=DATE:20210303
DESCRIPTION:Property ID# 501847\, Locatoin: Ray White Auction Room\, 1239 A
 mohia Street\, Rotorua (unless sold prior)\, Time: 1:00PM
SUMMARY:Auction for 
END:VEVENT
END:VCALENDAR
