BEGIN:VCALENDAR
VERSION:2.0
PRODID:icalendar-ruby
CALSCALE:GREGORIAN
BEGIN:VEVENT
DTSTAMP:20260419T223524Z
UID:45861fd4-7105-4aea-b2d4-071f95674bd5
DTSTART;VALUE=DATE:20220210
DESCRIPTION:Property ID# 527980\, Locatoin: 1280 Pukuatua Street Rotorua\, 
 Time: 4:00PM
SUMMARY:Auction for 
END:VEVENT
END:VCALENDAR
