BEGIN:VCALENDAR
VERSION:2.0
PRODID:icalendar-ruby
CALSCALE:GREGORIAN
BEGIN:VEVENT
DTSTAMP:20260419T223116Z
UID:a9bdad07-1a00-4396-875d-7a22be59f3e6
DTSTART;VALUE=DATE:20221214
DESCRIPTION:Property ID# 543198\, Time: 4:00PM
SUMMARY:Auction for 
END:VEVENT
END:VCALENDAR
